BEGIN:VCALENDAR
VERSION:2.0
PRODID:-//wp-events-plugin.com//7.2.3.1//EN
BEGIN:VEVENT
UID:10@imaasia.com
DTSTART;TZID=Asia/Singapore:20260430T080000
DTEND;TZID=Asia/Singapore:20260430T093000
DTSTAMP:20260420T082052Z
URL:https://imaasia.com/events/open-agenda-catch-up-3/
SUMMARY:Open Agenda Catch-up
DESCRIPTION:Like to attend this event? Events are exclusive to IMA Asia mem
 bers by invitation. Contact us about membership.
ATTACH;FMTTYPE=image/jpeg:https://imaasia.com/wp-content/uploads/2026/04/q
 tq80-34ULwa.jpeg
CATEGORIES:Singapore
LOCATION:Singapore\, -\, Singapore\, Singapore
X-APPLE-STRUCTURED-LOCATION;VALUE=URI;X-ADDRESS=-\, Singapore\, Singapore;X
 -APPLE-RADIUS=100;X-TITLE=Singapore:geo:0,0
END:VEVENT
BEGIN:VTIMEZONE
TZID:Asia/Singapore
X-LIC-LOCATION:Asia/Singapore
BEGIN:STANDARD
DTSTART:20250430T080000
TZOFFSETFROM:+0800
TZOFFSETTO:+0800
TZNAME:+08
END:STANDARD
END:VTIMEZONE
END:VCALENDAR