BEGIN:VCALENDAR
VERSION:2.0
PRODID:-//wp-events-plugin.com//7.2.3.1//EN
BEGIN:VEVENT
UID:5@imaasia.com
DTSTART;TZID=Asia/Shanghai:20260529T183000
DTEND;TZID=Asia/Shanghai:20260529T213000
DTSTAMP:20260420T075649Z
URL:https://imaasia.com/events/members-dinner/
SUMMARY:Members’ Dinner
DESCRIPTION:These events are for members only. If you'd like to discover mo
 re about membership\, please contact us at service@imaasia.com
ATTACH;FMTTYPE=image/jpeg:https://imaasia.com/wp-content/uploads/2026/04/q
 tq80-uAGAA6.jpeg
CATEGORIES:Singapore
LOCATION:Shanghai\, -\, Shanghai\, China
X-APPLE-STRUCTURED-LOCATION;VALUE=URI;X-ADDRESS=-\, Shanghai\, China;X-APPL
 E-RADIUS=100;X-TITLE=Shanghai:geo:0,0
END:VEVENT
BEGIN:VTIMEZONE
TZID:Asia/Shanghai
X-LIC-LOCATION:Asia/Shanghai
BEGIN:STANDARD
DTSTART:20250529T183000
TZOFFSETFROM:+0800
TZOFFSETTO:+0800
TZNAME:CST
END:STANDARD
END:VTIMEZONE
END:VCALENDAR