BEGIN:VCALENDAR
VERSION:2.0
PRODID:-//wp-events-plugin.com//7.2.3.1//EN
BEGIN:VEVENT
UID:9@imaasia.com
DTSTART;TZID=Asia/Shanghai:20260424T140000
DTEND;TZID=Asia/Shanghai:20260424T170000
DTSTAMP:20260420T081415Z
URL:https://imaasia.com/events/china-strategy-forum-where-geopolitics-meet
 s-strategy/
SUMMARY:China Strategy Forum: Where Geopolitics Meets Strategy
DESCRIPTION:Like to attend this event? Events are exclusive to IMA Asia mem
 bers by invitation. Contact us about membership.
ATTACH;FMTTYPE=image/jpeg:https://imaasia.com/wp-content/uploads/2026/04/S
 trategy-002.png
CATEGORIES:China
LOCATION:Shanghai\, -\, Shanghai\, China
X-APPLE-STRUCTURED-LOCATION;VALUE=URI;X-ADDRESS=-\, Shanghai\, China;X-APPL
 E-RADIUS=100;X-TITLE=Shanghai:geo:0,0
END:VEVENT
BEGIN:VTIMEZONE
TZID:Asia/Shanghai
X-LIC-LOCATION:Asia/Shanghai
BEGIN:STANDARD
DTSTART:20250424T140000
TZOFFSETFROM:+0800
TZOFFSETTO:+0800
TZNAME:CST
END:STANDARD
END:VTIMEZONE
END:VCALENDAR