BEGIN:VCALENDAR
VERSION:2.0
PRODID:-//wp-events-plugin.com//7.2.3.1//EN
BEGIN:VEVENT
UID:3@imaasia.com
DTSTART:20260422T080000Z
DTEND:20260422T093000Z
DTSTAMP:20260420T080731Z
URL:https://imaasia.com/events/breakfast-with-pierre-cohade/
SUMMARY:Breakfast with Pierre Cohade
DESCRIPTION:Like to attend this event? Events are exclusive to IMA Asia mem
 bers by invitation. Contact us about membership.
ATTACH;FMTTYPE=image/jpeg:https://imaasia.com/wp-content/uploads/2026/04/q
 tq80-L2UPra.jpeg
CATEGORIES:Singapore
LOCATION:Singapore\, -\, Singapore\, Singapore
X-APPLE-STRUCTURED-LOCATION;VALUE=URI;X-ADDRESS=-\, Singapore\, Singapore;X
 -APPLE-RADIUS=100;X-TITLE=Singapore:geo:0,0
END:VEVENT
END:VCALENDAR